BEGIN:VCALENDAR
VERSION:2.0
PRODID:-//hacksw/handcal//NONSGML v1.0//EN
BEGIN:VEVENT
DTSTART:20260425T080000Z
DTEND:20260425T110000Z
LOCATION:ECEMA Lyon \n29 avenue Leclerc \n69007 Lyon
ORGANIZER;CN=ECEMA Alumni:MAILTO:kmerle+test@ecema.fr
SUMMARY:Journée Portes Ouvertes - ECEMA Lyon
DESCRIPTION:🎓 Participez à la prochaine Journée Portes Ouvertes de l’ECEMA Lyon !\n📅 Samedi 25 avril 2026📍 29 rue Leclerc, 69007 Lyon⏱️ 10h - 13h\nAu programme :Présentation de l’ECEMA Visite du...
URL:https://www.reseau-ecema.com/fr/event/journee-portes-ouvertes-ecema-lyon/2026/04/25/24
BEGIN:VALARM
TRIGGER:-P0DT1H0M0S
ACTION:DISPLAY
END:VALARM
END:VEVENT
END:VCALENDAR