BEGIN:VCALENDAR
VERSION:2.0
PRODID:-//hacksw/handcal//NONSGML v1.0//EN
BEGIN:VEVENT
DTSTART:20260425T073000Z
DTEND:20260425T130000Z
LOCATION:ECEMA Saint-Eitenne \n27 rue Voltaire  \n42100 Saint-Etienne
ORGANIZER;CN=ECEMA Alumni:MAILTO:kmerle+test@ecema.fr
SUMMARY:Journée Portes Ouvertes - ECEMA Saint-Etienne
DESCRIPTION:🎓 Participez à la prochaine Journée Portes Ouvertes de l’ECEMA Saint-Étienne !\n📅 Samedi 25 avril 2026📍 27 rue Voltaire, 42100Saint-Étiennee ⏱️ 9h30 - 15h\nAu programme :Présentation de l’ECEMA Visite...
URL:https://www.reseau-ecema.com/fr/event/journee-portes-ouvertes-ecema-saint-etienne/2026/04/25/25
BEGIN:VALARM
TRIGGER:-P0DT1H0M0S
ACTION:DISPLAY
END:VALARM
END:VEVENT
END:VCALENDAR